BEGIN:VCALENDAR
VERSION:2.0
PRODID:-//Niedersächsischer Pétanque-Verband e. V. - ECPv6.15.15//NONSGML v1.0//EN
CALSCALE:GREGORIAN
METHOD:PUBLISH
X-ORIGINAL-URL:https://www.npv-petanque.de
X-WR-CALDESC:Veranstaltungen für Niedersächsischer Pétanque-Verband e. V.
REFRESH-INTERVAL;VALUE=DURATION:PT1H
X-Robots-Tag:noindex
X-PUBLISHED-TTL:PT1H
BEGIN:VTIMEZONE
TZID:Europe/Berlin
BEGIN:DAYLIGHT
TZOFFSETFROM:+0100
TZOFFSETTO:+0200
TZNAME:CEST
DTSTART:20190331T010000
END:DAYLIGHT
BEGIN:STANDARD
TZOFFSETFROM:+0200
TZOFFSETTO:+0100
TZNAME:CET
DTSTART:20191027T010000
END:STANDARD
BEGIN:DAYLIGHT
TZOFFSETFROM:+0100
TZOFFSETTO:+0200
TZNAME:CEST
DTSTART:20200329T010000
END:DAYLIGHT
BEGIN:STANDARD
TZOFFSETFROM:+0200
TZOFFSETTO:+0100
TZNAME:CET
DTSTART:20201025T010000
END:STANDARD
BEGIN:DAYLIGHT
TZOFFSETFROM:+0100
TZOFFSETTO:+0200
TZNAME:CEST
DTSTART:20210328T010000
END:DAYLIGHT
BEGIN:STANDARD
TZOFFSETFROM:+0200
TZOFFSETTO:+0100
TZNAME:CET
DTSTART:20211031T010000
END:STANDARD
END:VTIMEZONE
BEGIN:VEVENT
DTSTART;TZID=Europe/Berlin:20201128T110000
DTEND;TZID=Europe/Berlin:20201128T170000
DTSTAMP:20260421T231731
CREATED:20191122T085142Z
LAST-MODIFIED:20201124T163148Z
UID:3753-1606561200-1606582800@www.npv-petanque.de
SUMMARY:Abgesagt - Außerordentliche MV
DESCRIPTION:Toto-Lotto-Saal beim Landessportbund
URL:https://www.npv-petanque.de/termin/ausserordentliche-mv-optional/
LOCATION:Landessportbund\, Ferdinand-Wilhelm-Fricke-Weg 10\, 30169 Hannover\, Germany
CATEGORIES:Verband
END:VEVENT
END:VCALENDAR