BEGIN:VCALENDAR
VERSION:2.0
PRODID:-//Niedersächsischer Pétanque-Verband e. V. - ECPv6.15.15//NONSGML v1.0//EN
CALSCALE:GREGORIAN
METHOD:PUBLISH
X-WR-CALNAME:Niedersächsischer Pétanque-Verband e. V.
X-ORIGINAL-URL:https://www.npv-petanque.de
X-WR-CALDESC:Veranstaltungen für Niedersächsischer Pétanque-Verband e. V.
REFRESH-INTERVAL;VALUE=DURATION:PT1H
X-Robots-Tag:noindex
X-PUBLISHED-TTL:PT1H
BEGIN:VTIMEZONE
TZID:Europe/Berlin
BEGIN:DAYLIGHT
TZOFFSETFROM:+0100
TZOFFSETTO:+0200
TZNAME:CEST
DTSTART:20190331T010000
END:DAYLIGHT
BEGIN:STANDARD
TZOFFSETFROM:+0200
TZOFFSETTO:+0100
TZNAME:CET
DTSTART:20191027T010000
END:STANDARD
BEGIN:DAYLIGHT
TZOFFSETFROM:+0100
TZOFFSETTO:+0200
TZNAME:CEST
DTSTART:20200329T010000
END:DAYLIGHT
BEGIN:STANDARD
TZOFFSETFROM:+0200
TZOFFSETTO:+0100
TZNAME:CET
DTSTART:20201025T010000
END:STANDARD
BEGIN:DAYLIGHT
TZOFFSETFROM:+0100
TZOFFSETTO:+0200
TZNAME:CEST
DTSTART:20210328T010000
END:DAYLIGHT
BEGIN:STANDARD
TZOFFSETFROM:+0200
TZOFFSETTO:+0100
TZNAME:CET
DTSTART:20211031T010000
END:STANDARD
END:VTIMEZONE
BEGIN:VEVENT
DTSTART;TZID=Europe/Berlin:20200808T093000
DTEND;TZID=Europe/Berlin:20200808T223000
DTSTAMP:20260422T071608
CREATED:20191121T155627Z
LAST-MODIFIED:20200514T131938Z
UID:3714-1596879000-1596925800@www.npv-petanque.de
SUMMARY:Abgesagt - LM Tête á Tête / Tireur
DESCRIPTION:
URL:https://www.npv-petanque.de/termin/lm-tete-a-tete-tireur/
CATEGORIES:LM
END:VEVENT
BEGIN:VEVENT
DTSTART;TZID=Europe/Berlin:20200815T093000
DTEND;TZID=Europe/Berlin:20200815T223000
DTSTAMP:20260422T071608
CREATED:20191121T155801Z
LAST-MODIFIED:20200514T132010Z
UID:3716-1597483800-1597530600@www.npv-petanque.de
SUMMARY:Abgesagt - LM Ü55
DESCRIPTION:
URL:https://www.npv-petanque.de/termin/lm-ue55/
CATEGORIES:LM
END:VEVENT
BEGIN:VEVENT
DTSTART;TZID=Europe/Berlin:20200822T000000
DTEND;TZID=Europe/Berlin:20200823T235900
DTSTAMP:20260422T071608
CREATED:20191121T155923Z
LAST-MODIFIED:20200514T132038Z
UID:3718-1598054400-1598227140@www.npv-petanque.de
SUMMARY:Abgesagt - DM Tête / Tireur
DESCRIPTION:
URL:https://www.npv-petanque.de/termin/dm-tete-tireur/
LOCATION:Tromm (Hessen)\, Germany
CATEGORIES:DM
END:VEVENT
BEGIN:VEVENT
DTSTART;TZID=Europe/Berlin:20200822T100000
DTEND;TZID=Europe/Berlin:20200822T200000
DTSTAMP:20260422T071608
CREATED:20200413T133205Z
LAST-MODIFIED:20200514T132107Z
UID:6758-1598090400-1598126400@www.npv-petanque.de
SUMMARY:Abgesagt - 5.Winsener Bürgerm.Boule Turnier
DESCRIPTION:offenes Turnier
URL:https://www.npv-petanque.de/termin/5-winsener-buergerm-boule-turnier/
LOCATION:Hansa-Sportverein Stöckte e.V.\, Sportplatzweg 16\, 21423 Winsen-Stöckte\, Germany
END:VEVENT
BEGIN:VEVENT
DTSTART;TZID=Europe/Berlin:20200829T000000
DTEND;TZID=Europe/Berlin:20200829T235900
DTSTAMP:20260422T071608
CREATED:20191121T160044Z
LAST-MODIFIED:20200514T132824Z
UID:3720-1598659200-1598745540@www.npv-petanque.de
SUMMARY:Abgesagt - DPV 3. Bundesligaspieltag
DESCRIPTION:
URL:https://www.npv-petanque.de/termin/dpv-3-bundesligaspieltag/
CATEGORIES:Liga
END:VEVENT
BEGIN:VEVENT
DTSTART;TZID=Europe/Berlin:20200830T000000
DTEND;TZID=Europe/Berlin:20200830T235900
DTSTAMP:20260422T071608
CREATED:20191121T160208Z
LAST-MODIFIED:20200514T132852Z
UID:3722-1598745600-1598831940@www.npv-petanque.de
SUMMARY:Abgesagt - 5. Ligaspieltag
DESCRIPTION:
URL:https://www.npv-petanque.de/termin/4-ligaspieltag/
LOCATION:Verschiedene Orte\, Niedersachsen\, Germany
CATEGORIES:Liga
END:VEVENT
BEGIN:VEVENT
DTSTART;TZID=Europe/Berlin:20200830T000000
DTEND;TZID=Europe/Berlin:20200830T235900
DTSTAMP:20260422T071608
CREATED:20191121T160314Z
LAST-MODIFIED:20200514T132920Z
UID:3724-1598745600-1598831940@www.npv-petanque.de
SUMMARY:Abgesagt - DPV 4. Bundesligaspieltag
DESCRIPTION:
URL:https://www.npv-petanque.de/termin/dpv-4-bundesligaspieltag/
CATEGORIES:Liga
END:VEVENT
END:VCALENDAR