BEGIN:VCALENDAR
VERSION:2.0
PRODID:-//Niedersächsischer Pétanque-Verband e. V. - ECPv6.15.15//NONSGML v1.0//EN
CALSCALE:GREGORIAN
METHOD:PUBLISH
X-WR-CALNAME:Niedersächsischer Pétanque-Verband e. V.
X-ORIGINAL-URL:https://www.npv-petanque.de
X-WR-CALDESC:Veranstaltungen für Niedersächsischer Pétanque-Verband e. V.
REFRESH-INTERVAL;VALUE=DURATION:PT1H
X-Robots-Tag:noindex
X-PUBLISHED-TTL:PT1H
BEGIN:VTIMEZONE
TZID:Europe/Berlin
BEGIN:DAYLIGHT
TZOFFSETFROM:+0100
TZOFFSETTO:+0200
TZNAME:CEST
DTSTART:20190331T010000
END:DAYLIGHT
BEGIN:STANDARD
TZOFFSETFROM:+0200
TZOFFSETTO:+0100
TZNAME:CET
DTSTART:20191027T010000
END:STANDARD
BEGIN:DAYLIGHT
TZOFFSETFROM:+0100
TZOFFSETTO:+0200
TZNAME:CEST
DTSTART:20200329T010000
END:DAYLIGHT
BEGIN:STANDARD
TZOFFSETFROM:+0200
TZOFFSETTO:+0100
TZNAME:CET
DTSTART:20201025T010000
END:STANDARD
BEGIN:DAYLIGHT
TZOFFSETFROM:+0100
TZOFFSETTO:+0200
TZNAME:CEST
DTSTART:20210328T010000
END:DAYLIGHT
BEGIN:STANDARD
TZOFFSETFROM:+0200
TZOFFSETTO:+0100
TZNAME:CET
DTSTART:20211031T010000
END:STANDARD
END:VTIMEZONE
BEGIN:VEVENT
DTSTART;TZID=Europe/Berlin:20200704T093000
DTEND;TZID=Europe/Berlin:20200704T223000
DTSTAMP:20260422T092332
CREATED:20191121T155022Z
LAST-MODIFIED:20200514T131823Z
UID:3708-1593855000-1593901800@www.npv-petanque.de
SUMMARY:Abgesagt - LM Mixte
DESCRIPTION:
URL:https://www.npv-petanque.de/termin/lm-mixte/
CATEGORIES:LM
END:VEVENT
BEGIN:VEVENT
DTSTART;TZID=Europe/Berlin:20200718T000000
DTEND;TZID=Europe/Berlin:20200719T235900
DTSTAMP:20260422T092332
CREATED:20191121T155223Z
LAST-MODIFIED:20200514T131901Z
UID:3710-1595030400-1595203140@www.npv-petanque.de
SUMMARY:Abgesagt - DM Mixte
DESCRIPTION:
URL:https://www.npv-petanque.de/termin/dm-mixte/
LOCATION:Diefflen (Saar)\, Germany
CATEGORIES:DM
END:VEVENT
END:VCALENDAR