BEGIN:VCALENDAR
VERSION:2.0
PRODID:-//Niedersächsischer Pétanque-Verband e. V. - ECPv6.15.15//NONSGML v1.0//EN
CALSCALE:GREGORIAN
METHOD:PUBLISH
X-WR-CALNAME:Niedersächsischer Pétanque-Verband e. V.
X-ORIGINAL-URL:https://www.npv-petanque.de
X-WR-CALDESC:Veranstaltungen für Niedersächsischer Pétanque-Verband e. V.
REFRESH-INTERVAL;VALUE=DURATION:PT1H
X-Robots-Tag:noindex
X-PUBLISHED-TTL:PT1H
BEGIN:VTIMEZONE
TZID:Europe/Berlin
BEGIN:DAYLIGHT
TZOFFSETFROM:+0100
TZOFFSETTO:+0200
TZNAME:CEST
DTSTART:20250330T010000
END:DAYLIGHT
BEGIN:STANDARD
TZOFFSETFROM:+0200
TZOFFSETTO:+0100
TZNAME:CET
DTSTART:20251026T010000
END:STANDARD
BEGIN:DAYLIGHT
TZOFFSETFROM:+0100
TZOFFSETTO:+0200
TZNAME:CEST
DTSTART:20260329T010000
END:DAYLIGHT
BEGIN:STANDARD
TZOFFSETFROM:+0200
TZOFFSETTO:+0100
TZNAME:CET
DTSTART:20261025T010000
END:STANDARD
BEGIN:DAYLIGHT
TZOFFSETFROM:+0100
TZOFFSETTO:+0200
TZNAME:CEST
DTSTART:20270328T010000
END:DAYLIGHT
BEGIN:STANDARD
TZOFFSETFROM:+0200
TZOFFSETTO:+0100
TZNAME:CET
DTSTART:20271031T010000
END:STANDARD
END:VTIMEZONE
BEGIN:VEVENT
DTSTART;TZID=Europe/Berlin:20260425T000000
DTEND;TZID=Europe/Berlin:20260426T235959
DTSTAMP:20260425T123714
CREATED:20260422T075305Z
LAST-MODIFIED:20260422T080958Z
UID:18042-1777075200-1777247999@www.npv-petanque.de
SUMMARY:Jugendländermasters (dpj)
DESCRIPTION:Am Jugendländermasters in Chemnitz nimmt je ein Kaderteam in den Altersgruppen Cadets\, Juniors und Espoirs teil. Gespielt wird 3:3.
URL:https://www.npv-petanque.de/termin/jugendlaendermasters-dpj/
CATEGORIES:Jugend
END:VEVENT
BEGIN:VEVENT
DTSTART;TZID=Europe/Berlin:20260502T000000
DTEND;TZID=Europe/Berlin:20260503T235959
DTSTAMP:20260425T123714
CREATED:20251111T070419Z
LAST-MODIFIED:20260415T110203Z
UID:17089-1777680000-1777852799@www.npv-petanque.de
SUMMARY:LM Triplette
DESCRIPTION:Endturnier in Schüttorf im Bezirk Weser-Ems-Süd \n\n\n\n\nBezirk 1: FV Dittmern\n\n\n\nBezirk 2: TSV Burgdorf\n\n\n\nBezirk 3: 1. Pétanque-Club Göttingen\n\n\n\nBezirk 4: Bad Nenndorf / Waltringhausen\n\n\n\nBezirk 5: FC Schüttorf\n\n\n\nBezirk 6: PC Varel
URL:https://www.npv-petanque.de/termin/lm-triplette-7/
LOCATION:Schüttorfer Boulehalle\, Salzberger Str. 80\, Schüttorf\, Niedersachsen\, Germany
CATEGORIES:LM
END:VEVENT
BEGIN:VEVENT
DTSTART;TZID=Europe/Berlin:20260509T000000
DTEND;TZID=Europe/Berlin:20260509T235959
DTSTAMP:20260425T123714
CREATED:20260422T062640Z
LAST-MODIFIED:20260422T081435Z
UID:18024-1778284800-1778371199@www.npv-petanque.de
SUMMARY:Landesmeisterschaft der Jugend
DESCRIPTION:Die Jugend-LM ist eine offene Landesmeisterschaft Tête à Tête in den Altersklassen Minimes\, Cadets\, Juniors und Espoirs. Beginn 10 Uhr\, Einschreibeschluss: 09:30. Weitere Informationen findet ihr auf unserer Webseite. \n\n\n\nAnmeldung bis zum 06.05.2026
URL:https://www.npv-petanque.de/termin/landesmeisterschaft-der-jugend/
LOCATION:SVN Düshorn\, Mühlenstraße 46\, 29664 Walsrode
CATEGORIES:Jugend
END:VEVENT
BEGIN:VEVENT
DTSTART;TZID=Europe/Berlin:20260510T000000
DTEND;TZID=Europe/Berlin:20260510T235959
DTSTAMP:20260425T123714
CREATED:20251111T073440Z
LAST-MODIFIED:20251111T073440Z
UID:17117-1778371200-1778457599@www.npv-petanque.de
SUMMARY:Ligaspieltag 2 (nur für NL)
DESCRIPTION:
URL:https://www.npv-petanque.de/termin/ligaspieltag-2-nur-fuer-nl-2/
CATEGORIES:Liga
END:VEVENT
BEGIN:VEVENT
DTSTART;TZID=Europe/Berlin:20260510T000000
DTEND;TZID=Europe/Berlin:20260510T235959
DTSTAMP:20260425T123714
CREATED:20251212T062405Z
LAST-MODIFIED:20251212T062406Z
UID:17211-1778371200-1778457599@www.npv-petanque.de
SUMMARY:NPV-Pokal Runde 1 - Standardtermin
DESCRIPTION:Standardtermin 10.05.2026
URL:https://www.npv-petanque.de/termin/npv-pokal-runde-1-standardtermin/
CATEGORIES:NPV-Pokal
END:VEVENT
BEGIN:VEVENT
DTSTART;TZID=Europe/Berlin:20260510T000000
DTEND;TZID=Europe/Berlin:20260510T235959
DTSTAMP:20260425T123714
CREATED:20251231T084509Z
LAST-MODIFIED:20260319T070822Z
UID:17320-1778371200-1778457599@www.npv-petanque.de
SUMMARY:Anmeldeschluss LM Doublette Mixte
DESCRIPTION:
URL:https://www.npv-petanque.de/termin/anmeldeschluss-lm-doublette-mixte/
CATEGORIES:LM
END:VEVENT
BEGIN:VEVENT
DTSTART;TZID=Europe/Berlin:20260516T000000
DTEND;TZID=Europe/Berlin:20260517T235959
DTSTAMP:20260425T123714
CREATED:20251215T054207Z
LAST-MODIFIED:20251215T054208Z
UID:17231-1778889600-1779062399@www.npv-petanque.de
SUMMARY:DM Triplette
DESCRIPTION:
URL:https://www.npv-petanque.de/termin/dm-triplette-7/
LOCATION:Düsseldorf sur place e.V.\, Pariser Str. 65\, Düsseldorf
CATEGORIES:DM
END:VEVENT
BEGIN:VEVENT
DTSTART;TZID=Europe/Berlin:20260516T110000
DTEND;TZID=Europe/Berlin:20260516T170000
DTSTAMP:20260425T123714
CREATED:20260127T063840Z
LAST-MODIFIED:20260127T064742Z
UID:17530-1778929200-1778950800@www.npv-petanque.de
SUMMARY:Petit Lion 2026
DESCRIPTION:Erster Petit-Lion-Turnier für Kinder und Jugendliche – Näheres unter: Informationen
URL:https://www.npv-petanque.de/termin/petit-lion-2026/
LOCATION:Petanque-Club Wilhelmshaven\, Banter Deich 16\, 26382 Wilhelmshaven
CATEGORIES:Breitensport,Jugend
END:VEVENT
BEGIN:VEVENT
DTSTART;TZID=Europe/Berlin:20260530T000000
DTEND;TZID=Europe/Berlin:20260531T235959
DTSTAMP:20260425T123714
CREATED:20251111T070725Z
LAST-MODIFIED:20260319T072550Z
UID:17092-1780099200-1780271999@www.npv-petanque.de
SUMMARY:LM Doublette Mixte
DESCRIPTION:Endturnier in Braunschweig \n\n\n\n\nBezirk 1: SG Buxtehude-Altkloster\n\n\n\nBezirk 2: TC Bissendorf\n\n\n\nBezirk 3: Magni Bouler Braunschweig\n\n\n\nBezirk 4: Boulefreunde Rinteln\n\n\n\nBezirk 5: Rasensport Lathen\n\n\n\nBezirk 6: TC Oldenburg Süd (OL-Kreyenbrück)
URL:https://www.npv-petanque.de/termin/lm-doublette-mixte-2/
LOCATION:Magni Bouler Braunschweig\, Madamenweg 70\, Braunschweig\, Niedersachsen
CATEGORIES:LM
END:VEVENT
BEGIN:VEVENT
DTSTART;TZID=Europe/Berlin:20260606T110000
DTEND;TZID=Europe/Berlin:20260606T170000
DTSTAMP:20260425T123714
CREATED:20260422T075517Z
LAST-MODIFIED:20260422T075518Z
UID:18045-1780743600-1780765200@www.npv-petanque.de
SUMMARY:Jugendtraining Niedersachsen
DESCRIPTION:Zum Jugendtraining in Westercelle sind Jugendliche aller Altersklassen eingeladen.
URL:https://www.npv-petanque.de/termin/jugendtraining-niedersachsen/
CATEGORIES:Jugend
END:VEVENT
BEGIN:VEVENT
DTSTART;TZID=Europe/Berlin:20260607T000000
DTEND;TZID=Europe/Berlin:20260607T235959
DTSTAMP:20260425T123714
CREATED:20251111T072519Z
LAST-MODIFIED:20251111T072519Z
UID:17106-1780790400-1780876799@www.npv-petanque.de
SUMMARY:Ligaspieltag 3
DESCRIPTION:
URL:https://www.npv-petanque.de/termin/ligaspieltag-3-3/
CATEGORIES:Liga
END:VEVENT
BEGIN:VEVENT
DTSTART;TZID=Europe/Berlin:20260613T000000
DTEND;TZID=Europe/Berlin:20260614T235959
DTSTAMP:20260425T123714
CREATED:20251215T054310Z
LAST-MODIFIED:20251215T055344Z
UID:17235-1781308800-1781481599@www.npv-petanque.de
SUMMARY:DM Doublette Mixte
DESCRIPTION:
URL:https://www.npv-petanque.de/termin/dm-doublette-mixte-4/
LOCATION:Berlin-Tegel\, Germany
CATEGORIES:DM
END:VEVENT
BEGIN:VEVENT
DTSTART;TZID=Europe/Berlin:20260613T110000
DTEND;TZID=Europe/Berlin:20260613T170000
DTSTAMP:20260425T123714
CREATED:20260127T065431Z
LAST-MODIFIED:20260127T065431Z
UID:17541-1781348400-1781370000@www.npv-petanque.de
SUMMARY:Petit Lion 2026
DESCRIPTION:Petit-Lion-Turnier für Kinder und Jugendliche – Näheres unter: Informationen
URL:https://www.npv-petanque.de/termin/petit-lion-2026-2/
LOCATION:TuS Nenndorf\, Vaenser Grund\, 21224 Rosengarten\, Niedersachsen\, Germany
CATEGORIES:Breitensport,Jugend
END:VEVENT
BEGIN:VEVENT
DTSTART;TZID=Europe/Berlin:20260620T000000
DTEND;TZID=Europe/Berlin:20260620T235959
DTSTAMP:20260425T123714
CREATED:20251231T084349Z
LAST-MODIFIED:20251231T084350Z
UID:17318-1781913600-1781999999@www.npv-petanque.de
SUMMARY:Anmeldeschluss LM Frauen
DESCRIPTION:
URL:https://www.npv-petanque.de/termin/anmeldeschluss-lm-frauen/
CATEGORIES:LM
END:VEVENT
BEGIN:VEVENT
DTSTART;TZID=Europe/Berlin:20260621T000000
DTEND;TZID=Europe/Berlin:20260621T235959
DTSTAMP:20260425T123714
CREATED:20251111T072628Z
LAST-MODIFIED:20251111T072836Z
UID:17108-1782000000-1782086399@www.npv-petanque.de
SUMMARY:Ligaspieltag 4
DESCRIPTION:
URL:https://www.npv-petanque.de/termin/ligaspieltag-4-3/
CATEGORIES:Liga
END:VEVENT
BEGIN:VEVENT
DTSTART;TZID=Europe/Berlin:20260628T000000
DTEND;TZID=Europe/Berlin:20260628T235959
DTSTAMP:20260425T123714
CREATED:20251212T062055Z
LAST-MODIFIED:20251212T062056Z
UID:17204-1782604800-1782691199@www.npv-petanque.de
SUMMARY:NPV-Pokal Runde 2   -   Standardtermin
DESCRIPTION:Standardtermin 28.06.2026
URL:https://www.npv-petanque.de/termin/npv-pokal-runde-2-standardtermin/
CATEGORIES:NPV-Pokal
END:VEVENT
BEGIN:VEVENT
DTSTART;TZID=Europe/Berlin:20260703T000000
DTEND;TZID=Europe/Berlin:20260705T235959
DTSTAMP:20260425T123714
CREATED:20260422T075657Z
LAST-MODIFIED:20260422T081557Z
UID:18048-1783036800-1783295999@www.npv-petanque.de
SUMMARY:Boulejugendcamp - save the date!
DESCRIPTION:Das Boulejugendcamp ist noch in Planung. Es soll in Geeste stattfinden\, übernachtet wird in Zelten.
URL:https://www.npv-petanque.de/termin/boulejugendcamp-save-the-date/
CATEGORIES:Jugend
END:VEVENT
BEGIN:VEVENT
DTSTART;TZID=Europe/Berlin:20260704T000000
DTEND;TZID=Europe/Berlin:20260704T235959
DTSTAMP:20260425T123714
CREATED:20251111T070910Z
LAST-MODIFIED:20260226T061020Z
UID:17094-1783123200-1783209599@www.npv-petanque.de
SUMMARY:LM Frauen Triplette und Tireur
DESCRIPTION:
URL:https://www.npv-petanque.de/termin/lm-frauen-triplette-und-frauen-tireur-2/
LOCATION:PC Oldenburg\, Otterweg\, 26123 Oldenburg\, Niedersachsen\, Germany
CATEGORIES:LM
END:VEVENT
BEGIN:VEVENT
DTSTART;TZID=Europe/Berlin:20260718T000000
DTEND;TZID=Europe/Berlin:20260719T235959
DTSTAMP:20260425T123714
CREATED:20251215T053959Z
LAST-MODIFIED:20251215T055418Z
UID:17227-1784332800-1784505599@www.npv-petanque.de
SUMMARY:DM Triplette Frauen mit Tireur
DESCRIPTION:
URL:https://www.npv-petanque.de/termin/dm-triplette-frauen-mit-tireur-2/
LOCATION:Tornesch
CATEGORIES:DM
END:VEVENT
BEGIN:VEVENT
DTSTART;TZID=Europe/Berlin:20260718T110000
DTEND;TZID=Europe/Berlin:20260718T170000
DTSTAMP:20260425T123714
CREATED:20260127T065519Z
LAST-MODIFIED:20260127T065520Z
UID:17546-1784372400-1784394000@www.npv-petanque.de
SUMMARY:Petit Lion 2026
DESCRIPTION:Petit-Lion-Turnier für Kinder und Jugendliche – Näheres unter: Informationen
URL:https://www.npv-petanque.de/termin/petit-lion-2026-3/
LOCATION:SVD Auhagen\, Aschenweg 26b\, 31553 Auhagen
CATEGORIES:Breitensport,Jugend
END:VEVENT
BEGIN:VEVENT
DTSTART;TZID=Europe/Berlin:20260719T000000
DTEND;TZID=Europe/Berlin:20260719T235959
DTSTAMP:20260425T123714
CREATED:20251231T084248Z
LAST-MODIFIED:20260319T070950Z
UID:17316-1784419200-1784505599@www.npv-petanque.de
SUMMARY:Anmeldeschluss LM Doublette
DESCRIPTION:
URL:https://www.npv-petanque.de/termin/anmeldeschluss-lm-doublette/
CATEGORIES:LM
END:VEVENT
BEGIN:VEVENT
DTSTART;TZID=Europe/Berlin:20260726T000000
DTEND;TZID=Europe/Berlin:20260726T235959
DTSTAMP:20260425T123714
CREATED:20251231T084129Z
LAST-MODIFIED:20260319T071029Z
UID:17314-1785024000-1785110399@www.npv-petanque.de
SUMMARY:Anmeldeschluss LM 55plus
DESCRIPTION:
URL:https://www.npv-petanque.de/termin/anmeldeschluss-lm-55plus/
CATEGORIES:LM
END:VEVENT
BEGIN:VEVENT
DTSTART;TZID=Europe/Berlin:20260803T000000
DTEND;TZID=Europe/Berlin:20260807T235959
DTSTAMP:20260425T123714
CREATED:20260422T075921Z
LAST-MODIFIED:20260422T075921Z
UID:18050-1785715200-1786147199@www.npv-petanque.de
SUMMARY:Boulejugendfreizeit Sorpesee (dpj)
DESCRIPTION:Die Boulejugendfreizeit ist eine Veranstaltung der Jugend des Deutschen Pétanque Verbands für die Altersklassen Cadets / Juniors / Espoirs.
URL:https://www.npv-petanque.de/termin/boulejugendfreizeit-sorpesee-dpj/
CATEGORIES:Jugend
END:VEVENT
BEGIN:VEVENT
DTSTART;TZID=Europe/Berlin:20260808T000000
DTEND;TZID=Europe/Berlin:20260809T235959
DTSTAMP:20260425T123714
CREATED:20251111T071105Z
LAST-MODIFIED:20260404T152418Z
UID:17096-1786147200-1786319999@www.npv-petanque.de
SUMMARY:LM Doublette
DESCRIPTION:Endturnier in Wiedensahl \n\n\n\n\nBezirk 1: VfL Westercelle\n\n\n\nBezirk 2: PSV Hannover\n\n\n\nBezirk 3: SV Innerstetal\n\n\n\nBezirk 4: Wiedensahl\n\n\n\nBezirk 5: SC Osterbrock\n\n\n\nBezirk 6: Wilde-Boules Wildeshausen
URL:https://www.npv-petanque.de/termin/lm-doublette-7/
LOCATION:TuSG Wiedensahl\, Hauptstraße 158\, Wiedensahl\, Niedersachsen\, 31719
CATEGORIES:LM
END:VEVENT
BEGIN:VEVENT
DTSTART;TZID=Europe/Berlin:20260815T000000
DTEND;TZID=Europe/Berlin:20260816T235959
DTSTAMP:20260425T123714
CREATED:20251111T071645Z
LAST-MODIFIED:20260131T133555Z
UID:17099-1786752000-1786924799@www.npv-petanque.de
SUMMARY:LM 55plus Triplette
DESCRIPTION:Endturnier in Gleidingen \n\n\n\n\nBezirk 1: MTV Tostedt\n\n\n\nBezirk 2: BSV Gleidingen\n\n\n\nBezirk 3: Magni Bouler Braunschweig\n\n\n\nBezirk 4: SV Hattendorf\n\n\n\nBezirk 5:\n\n\n\nBezirk 6: TSV Wallhöfen
URL:https://www.npv-petanque.de/termin/lm-55plus-triplette/
LOCATION:Gleidingen\, Jahnweg 1\, Gleidingen\, Niedersachsen\, 3080\, Germany
CATEGORIES:LM
END:VEVENT
BEGIN:VEVENT
DTSTART;TZID=Europe/Berlin:20260816T000000
DTEND;TZID=Europe/Berlin:20260816T235959
DTSTAMP:20260425T123714
CREATED:20251231T084003Z
LAST-MODIFIED:20260319T071106Z
UID:17312-1786838400-1786924799@www.npv-petanque.de
SUMMARY:Anmeldeschluss LM Tête und Tireur
DESCRIPTION:
URL:https://www.npv-petanque.de/termin/anmeldeschluss-lm-tete-und-tireur/
CATEGORIES:LM
END:VEVENT
BEGIN:VEVENT
DTSTART;TZID=Europe/Berlin:20260822T000000
DTEND;TZID=Europe/Berlin:20260823T235959
DTSTAMP:20260425T123714
CREATED:20251215T054353Z
LAST-MODIFIED:20260131T134820Z
UID:17234-1787356800-1787529599@www.npv-petanque.de
SUMMARY:DM Doublette
DESCRIPTION:
URL:https://www.npv-petanque.de/termin/dm-doublette-7/
LOCATION:Boule Club Saarlouis\, St. Nazairer Allee 13\, Saarlouis\, Saarland\, 66740
CATEGORIES:DM
END:VEVENT
BEGIN:VEVENT
DTSTART;TZID=Europe/Berlin:20260822T110000
DTEND;TZID=Europe/Berlin:20260822T170000
DTSTAMP:20260425T123714
CREATED:20260127T065619Z
LAST-MODIFIED:20260127T065620Z
UID:17550-1787396400-1787418000@www.npv-petanque.de
SUMMARY:Petit Lion 2026
DESCRIPTION:Petit-Lion-Turnier für Kinder und Jugendliche – Näheres unter: Informationen
URL:https://www.npv-petanque.de/termin/petit-lion-2026-4/
LOCATION:Raspo Lathen\, Zur Waage\, 49762 Lathen
CATEGORIES:Breitensport,Jugend
END:VEVENT
BEGIN:VEVENT
DTSTART;TZID=Europe/Berlin:20260823T000000
DTEND;TZID=Europe/Berlin:20260823T235959
DTSTAMP:20260425T123714
CREATED:20251212T062137Z
LAST-MODIFIED:20251212T062137Z
UID:17203-1787443200-1787529599@www.npv-petanque.de
SUMMARY:NPV-Pokal Runde 3 - Standardtermin
DESCRIPTION:Standardtermin 23.08.2026
URL:https://www.npv-petanque.de/termin/npv-pokal-runde-3-standardtermin/
CATEGORIES:NPV-Pokal
END:VEVENT
BEGIN:VEVENT
DTSTART;TZID=Europe/Berlin:20260823T000000
DTEND;TZID=Europe/Berlin:20260823T235959
DTSTAMP:20260425T123714
CREATED:20260422T080050Z
LAST-MODIFIED:20260422T080050Z
UID:18052-1787443200-1787529599@www.npv-petanque.de
SUMMARY:Kadertraining
DESCRIPTION:Zum Kadertraining eingeladen sind die Spieler*innen des Jugendkaders in allen Altersklassen.
URL:https://www.npv-petanque.de/termin/kadertraining/
LOCATION:Raspo Lathen\, Zur Waage\, 49762 Lathen
CATEGORIES:Jugend
END:VEVENT
END:VCALENDAR